BEGIN:VCALENDAR
VERSION:2.0
PRODID:-//Willkommen - ECPv6.15.18//NONSGML v1.0//EN
CALSCALE:GREGORIAN
METHOD:PUBLISH
X-WR-CALNAME:Willkommen
X-ORIGINAL-URL:http://bsvboenen.de
X-WR-CALDESC:Veranstaltungen für Willkommen
REFRESH-INTERVAL;VALUE=DURATION:PT1H
X-Robots-Tag:noindex
X-PUBLISHED-TTL:PT1H
BEGIN:VTIMEZONE
TZID:UTC
BEGIN:STANDARD
TZOFFSETFROM:+0000
TZOFFSETTO:+0000
TZNAME:UTC
DTSTART:20250101T000000
END:STANDARD
END:VTIMEZONE
BEGIN:VEVENT
DTSTART;TZID=UTC:20260531T170000
DTEND;TZID=UTC:20260531T200000
DTSTAMP:20260419T140206
CREATED:20260319T203221Z
LAST-MODIFIED:20260319T203221Z
UID:555-1780246800-1780257600@bsvboenen.de
SUMMARY:Versammlung vor dem Schützenfest mit Vogelversteigerung
DESCRIPTION:
URL:http://bsvboenen.de/event/versammlung-vor-dem-schuetzenfest-mit-vogelversteigerung/
LOCATION:Gaststätte Lohmann
ATTACH;FMTTYPE=image/png:http://bsvboenen.de/wp-content/uploads/2026/03/Vogelversteigerung.png
END:VEVENT
END:VCALENDAR