BEGIN:VCALENDAR
VERSION:2.0
PRODID:-//Willkommen - ECPv6.15.18//NONSGML v1.0//EN
CALSCALE:GREGORIAN
METHOD:PUBLISH
X-WR-CALNAME:Willkommen
X-ORIGINAL-URL:http://bsvboenen.de
X-WR-CALDESC:Veranstaltungen für Willkommen
REFRESH-INTERVAL;VALUE=DURATION:PT1H
X-Robots-Tag:noindex
X-PUBLISHED-TTL:PT1H
BEGIN:VTIMEZONE
TZID:UTC
BEGIN:STANDARD
TZOFFSETFROM:+0000
TZOFFSETTO:+0000
TZNAME:UTC
DTSTART:20250101T000000
END:STANDARD
END:VTIMEZONE
BEGIN:VEVENT
DTSTART;TZID=UTC:20260814T190000
DTEND;TZID=UTC:20260814T190000
DTSTAMP:20260420T060424
CREATED:20260319T210540Z
LAST-MODIFIED:20260319T210544Z
UID:571-1786734000-1786734000@bsvboenen.de
SUMMARY:Vereinsabend
DESCRIPTION:
URL:http://bsvboenen.de/event/vereinsabend-2/
LOCATION:Vereinsheim an der Schützenwiese\, Witheborgstraße 31 (Wiese gegenüber)\, Bönen\, NRW\, 59199\, Germany
CATEGORIES:Vereinsabend
ATTACH;FMTTYPE=image/png:http://bsvboenen.de/wp-content/uploads/2025/01/Vereinsabend1.png
END:VEVENT
END:VCALENDAR