BEGIN:VCALENDAR
VERSION:2.0
PRODID:-//Willkommen - ECPv6.15.18//NONSGML v1.0//EN
CALSCALE:GREGORIAN
METHOD:PUBLISH
X-ORIGINAL-URL:http://bsvboenen.de
X-WR-CALDESC:Veranstaltungen für Willkommen
REFRESH-INTERVAL;VALUE=DURATION:PT1H
X-Robots-Tag:noindex
X-PUBLISHED-TTL:PT1H
BEGIN:VTIMEZONE
TZID:UTC
BEGIN:STANDARD
TZOFFSETFROM:+0000
TZOFFSETTO:+0000
TZNAME:UTC
DTSTART:20250101T000000
END:STANDARD
END:VTIMEZONE
BEGIN:VEVENT
DTSTART;TZID=UTC:20260814T190000
DTEND;TZID=UTC:20260814T190000
DTSTAMP:20260420T060125
CREATED:20260319T210540Z
LAST-MODIFIED:20260319T210544Z
UID:571-1786734000-1786734000@bsvboenen.de
SUMMARY:Vereinsabend
DESCRIPTION:
URL:http://bsvboenen.de/event/vereinsabend-2/
LOCATION:Vereinsheim an der Schützenwiese\, Witheborgstraße 31 (Wiese gegenüber)\, Bönen\, NRW\, 59199\, Germany
CATEGORIES:Vereinsabend
ATTACH;FMTTYPE=image/png:http://bsvboenen.de/wp-content/uploads/2025/01/Vereinsabend1.png
END:VEVENT
BEGIN:VEVENT
DTSTART;TZID=UTC:20260816T000000
DTEND;TZID=UTC:20260816T000000
DTSTAMP:20260420T060125
CREATED:20260320T203323Z
LAST-MODIFIED:20260320T210731Z
UID:573-1786838400-1786838400@bsvboenen.de
SUMMARY:Ausmarsch zum Schützenfest Schützenvereins Nordbögge 1851 e.V. 175 Jahre
DESCRIPTION:Treffunkt und Uhrzeit wird noch bekannt gegeben
URL:http://bsvboenen.de/event/ausmarsch-zum-schuetzenfest-schuetzenvereins-nordboegge-1851-e-v-175-jahre/
LOCATION:NRW
CATEGORIES:Ausmarsch
ATTACH;FMTTYPE=image/png:http://bsvboenen.de/wp-content/uploads/2024/07/SVNordboegge.png
END:VEVENT
BEGIN:VEVENT
DTSTART;TZID=UTC:20260823T000000
DTEND;TZID=UTC:20260823T000000
DTSTAMP:20260420T060125
CREATED:20260320T210853Z
LAST-MODIFIED:20260325T152208Z
UID:580-1787443200-1787443200@bsvboenen.de
SUMMARY:Familientag mit Kindern & Freunden des BSV Bönen
DESCRIPTION:Ort und Uhrzeit wird noch bekannt gegeben
URL:http://bsvboenen.de/event/familientag-mit-kindern-freunden-des-bsv-boenen/
LOCATION:Maximilianpark Hamm
ATTACH;FMTTYPE=image/png:http://bsvboenen.de/wp-content/uploads/2026/03/Familientag.png
END:VEVENT
END:VCALENDAR