BEGIN:VCALENDAR
VERSION:2.0
PRODID:-//Willkommen - ECPv6.15.18//NONSGML v1.0//EN
CALSCALE:GREGORIAN
METHOD:PUBLISH
X-WR-CALNAME:Willkommen
X-ORIGINAL-URL:http://bsvboenen.de
X-WR-CALDESC:Veranstaltungen für Willkommen
REFRESH-INTERVAL;VALUE=DURATION:PT1H
X-Robots-Tag:noindex
X-PUBLISHED-TTL:PT1H
BEGIN:VTIMEZONE
TZID:UTC
BEGIN:STANDARD
TZOFFSETFROM:+0000
TZOFFSETTO:+0000
TZNAME:UTC
DTSTART:20250101T000000
END:STANDARD
END:VTIMEZONE
BEGIN:VEVENT
DTSTART;TZID=UTC:20260905T000000
DTEND;TZID=UTC:20260905T000000
DTSTAMP:20260420T074453
CREATED:20260320T211331Z
LAST-MODIFIED:20260320T211339Z
UID:584-1788566400-1788566400@bsvboenen.de
SUMMARY:Schützenfest der Gemeindeavantgarden Bönen
DESCRIPTION:Ort und Uhrzeit werden noch bekannt gegeben
URL:http://bsvboenen.de/event/schuetzenfest-der-gemeindeavantgarden-boenen/
LOCATION:NRW
END:VEVENT
BEGIN:VEVENT
DTSTART;TZID=UTC:20260912T150000
DTEND;TZID=UTC:20260912T150000
DTSTAMP:20260420T074453
CREATED:20260320T211624Z
LAST-MODIFIED:20260320T212042Z
UID:586-1789225200-1789225200@bsvboenen.de
SUMMARY:Schützenfest des Spielmannszuges Bönen-Nordbögge
DESCRIPTION:
URL:http://bsvboenen.de/event/schuetzenfest-des-spielmannszuges-boenen-nordboegge/
LOCATION:Vereinsheim an der Schützenwiese\, Witheborgstraße 31 (Wiese gegenüber)\, Bönen\, NRW\, 59199\, Germany
ATTACH;FMTTYPE=image/jpeg:http://bsvboenen.de/wp-content/uploads/2026/03/Spielmannszug-Boenen.jpg
ORGANIZER;CN="Spielmannszug B%C3%B6nen - Nordb%C3%B6gge 1925 e.V.":MAILTO:spielmannszug1925@gmx.de
END:VEVENT
BEGIN:VEVENT
DTSTART;TZID=UTC:20260918T190000
DTEND;TZID=UTC:20260918T190000
DTSTAMP:20260420T074453
CREATED:20260320T212214Z
LAST-MODIFIED:20260320T212214Z
UID:591-1789758000-1789758000@bsvboenen.de
SUMMARY:Vereinsabend
DESCRIPTION:
URL:http://bsvboenen.de/event/vereinsabend-3/
LOCATION:Vereinsheim an der Schützenwiese\, Witheborgstraße 31 (Wiese gegenüber)\, Bönen\, NRW\, 59199\, Germany
ATTACH;FMTTYPE=image/png:http://bsvboenen.de/wp-content/uploads/2025/01/Vereinsabend1.png
END:VEVENT
END:VCALENDAR